BEGIN:VCALENDAR
VERSION:2.0
PRODID:-//Daisy Wellness - ECPv6.15.20//NONSGML v1.0//EN
CALSCALE:GREGORIAN
METHOD:PUBLISH
X-ORIGINAL-URL:https://daisywellness.co.uk
X-WR-CALDESC:Events for Daisy Wellness
REFRESH-INTERVAL;VALUE=DURATION:PT1H
X-Robots-Tag:noindex
X-PUBLISHED-TTL:PT1H
BEGIN:VTIMEZONE
TZID:Europe/London
BEGIN:DAYLIGHT
TZOFFSETFROM:+0000
TZOFFSETTO:+0100
TZNAME:BST
DTSTART:20230326T010000
END:DAYLIGHT
BEGIN:STANDARD
TZOFFSETFROM:+0100
TZOFFSETTO:+0000
TZNAME:GMT
DTSTART:20231029T010000
END:STANDARD
BEGIN:DAYLIGHT
TZOFFSETFROM:+0000
TZOFFSETTO:+0100
TZNAME:BST
DTSTART:20240331T010000
END:DAYLIGHT
BEGIN:STANDARD
TZOFFSETFROM:+0100
TZOFFSETTO:+0000
TZNAME:GMT
DTSTART:20241027T010000
END:STANDARD
BEGIN:DAYLIGHT
TZOFFSETFROM:+0000
TZOFFSETTO:+0100
TZNAME:BST
DTSTART:20250330T010000
END:DAYLIGHT
BEGIN:STANDARD
TZOFFSETFROM:+0100
TZOFFSETTO:+0000
TZNAME:GMT
DTSTART:20251026T010000
END:STANDARD
END:VTIMEZONE
BEGIN:VEVENT
DTSTART;TZID=Europe/London:20240310T103000
DTEND;TZID=Europe/London:20240310T150000
DTSTAMP:20260423T160838
CREATED:20240112T183306Z
LAST-MODIFIED:20240207T221923Z
UID:368-1710066600-1710082800@daisywellness.co.uk
SUMMARY:Anul Nou 2024 iti doresti sa fie ALTFEL?
DESCRIPTION:Cumpara bilete \nIti poti indeplini dorinta doar daca ai mentorii potriviti langa tine si daca esti dispus sa te schimbi! 😊 \nProfesorul Albert Ignatenko este unul dintre cei mai cautati oameni de stiinta din lume insa\, din cand in cand\, isi face timp si pentru a impartasi cunoasterea acumulata in cei peste 60 de ani de certetare si aplicare a inovatiilor obtinute in viata oamenilor de stat\, a celebritatilor si a multimiliardarilor\, cu noi oameni care isi doresc cu ardoare sa isi schimbe vietile si lumea in care traiesc.  \n Scopul este acela de a crea o lume mai buna\, cu oameni deschisi catre o mentalitate noua\, aceea prin care toti urmarim binele comun al Planeti Pamant si ne folosim la maximum capacitatile personale cu care am fost inzestrati la nastere\, pe care majoritatea noastra le foloseste doar 1% din potential si pe care le putem reactiva prin rescrierea propriului destin.  \nFolosind informatii stiintifice\, explicate in termini accesibili oricui\, meditatii\, conectari la matricile divine\, tehnici PSY\, Profesorul Ignatenko timp de peste 4 ore iti va creste capacitatile personale\, iti va sterge din karma personala si de neam si iti va arata calea spre sanatate deplina\, forta\, energie\, o viata traita cu sens si indeplinirea tuturor dorintelor. Mai mult decat atat te va invata cum sa gandesti pozitiv pentru a iti putea schimba definitiv viata.  \nAZI este sansa ta de a alege sa iti cunosti viitorul mentor\, in mai putin de 1 luna\, pe 10 Martie 2024 la Londra intr-o atmosfera specific britanica la “The Caledonian Club” incepand cu ora 10:30 A.M.  \nIndiferent de religia ta\, daca crezi in Divinitate si ca acolo undeva in Univers exista o forta mai mare decat tine si ai intrebari la care inca nu ai gasit raspuns sau poate esti doar curios\,  Profesorul Cosmoumanist  Albert Ignatenko te asteapta sa iti raspunda personal la ele.   \nDaca nu reusesti sa ajungi fizic avem pentru tine varianta de a te conecta virtual\, prin zoom\, insa iti garantam aceeasi conexiune energetica cu Profesorul si aceeasi posibilitate de a iti raspunde la intrebari\, daca ai camera deschisa. \nIngrijorarea privind barierele de limba o intelegem\, tocmai de aceea avem translatori de exceptie\, care lucreaza cu profesorul de zeci de ani si care asigura o intrepretare fidela\, cu o acuratete ridicata. \nSi poate cel mai important\, alaturi de Profesor\, vei descoperi o comunitate de oameni cu aceleasi principii de viata si nivel de constiinta ca si tine\, ce vor deveni noii tai prieteni\, raspanditi in intreaga lume.  \nEu\, Margareta Iordache\, ma consider deja prietena ta si te voi ajuta cu tot ceea ce ai nevoie pentru a iti face aceasta experienta cat mai placuta.  Te rog\, nu ezita sa ma contactezi la numarul de telefon: 0447920527387 la adresa de mail margaret@daisywellness.co.uk.
URL:https://daisywellness.co.uk/event/anul-nou-2024-iti-doresti-sa-fie-altfel/
LOCATION:Anul Nou 2024 iti doresti sa fie ALTFEL?\, 9 Halkin Street\, London\, SW1X 7DR\, United Kingdom
ATTACH;FMTTYPE=image/jpeg:https://daisywellness.co.uk/wp-content/uploads/2024/01/albert-romana.jpg
ORGANIZER;CN="DAISY WELLNESS LTD":MAILTO:margaret@daisywellness.co.uk
END:VEVENT
END:VCALENDAR